BEGIN:VCALENDAR
VERSION:2.0
PRODID:-//ville Algrange - ECPv6.15.20//NONSGML v1.0//EN
CALSCALE:GREGORIAN
METHOD:PUBLISH
X-WR-CALNAME:ville Algrange
X-ORIGINAL-URL:https://ville-algrange.fr
X-WR-CALDESC:Évènements pour ville Algrange
REFRESH-INTERVAL;VALUE=DURATION:PT1H
X-Robots-Tag:noindex
X-PUBLISHED-TTL:PT1H
BEGIN:VTIMEZONE
TZID:UTC
BEGIN:STANDARD
TZOFFSETFROM:+0000
TZOFFSETTO:+0000
TZNAME:UTC
DTSTART:20230101T000000
END:STANDARD
END:VTIMEZONE
BEGIN:VEVENT
DTSTART;TZID=UTC:20240208T150000
DTEND;TZID=UTC:20240208T190000
DTSTAMP:20260420T123701
CREATED:20220728T101511Z
LAST-MODIFIED:20240202T081906Z
UID:3134-1707404400-1707418800@ville-algrange.fr
SUMMARY:Don du sang
DESCRIPTION:Venez donner votre sang lors de la prochaine collecte organisée par l’Amicale du Don du Sang Algrange le jeudi 8 février 2024 de 15h à 19h\, à la salle Mandela\, place François Mitterrand.\n\nPour plus de confort et de simplicité\, vous pouvez prendre rendez-vous directement en ligne via le lien suivant : https://efs.link/3CrhV\nVenez nombreux\, les besoins en sang sont importants !
URL:https://ville-algrange.fr/event/don-du-sang-4
LOCATION:Salle Mandela\, place François Mitterrand\, ALGRANGE\, France
ATTACH;FMTTYPE=image/jpeg:https://ville-algrange.fr/wp-content/uploads/2022/07/420088571_676902037978393_1077443330870633863_n.jpg
END:VEVENT
END:VCALENDAR