BEGIN:VCALENDAR
VERSION:2.0
PRODID:-//ville Algrange - ECPv6.15.20//NONSGML v1.0//EN
CALSCALE:GREGORIAN
METHOD:PUBLISH
X-ORIGINAL-URL:https://ville-algrange.fr
X-WR-CALDESC:Évènements pour ville Algrange
REFRESH-INTERVAL;VALUE=DURATION:PT1H
X-Robots-Tag:noindex
X-PUBLISHED-TTL:PT1H
BEGIN:VTIMEZONE
TZID:UTC
BEGIN:STANDARD
TZOFFSETFROM:+0000
TZOFFSETTO:+0000
TZNAME:UTC
DTSTART:20210101T000000
END:STANDARD
END:VTIMEZONE
BEGIN:VEVENT
DTSTART;TZID=UTC:20251206T093000
DTEND;TZID=UTC:20251207T170000
DTSTAMP:20260424T141222
CREATED:20251128T144423Z
LAST-MODIFIED:20251128T144457Z
UID:3867-1765013400-1765126800@ville-algrange.fr
SUMMARY:Téléthon 2025
DESCRIPTION:TÉLÉTHON – Algrange se mobilise ! \nRendez-vous le samedi 6 et le dimanche 7 décembre 2025\n\nCette année encore\, notre ville se rassemble pour un week-end de solidarité et de partage au profit du Téléthon ! Venez nombreux participer aux animations organisées dans toute la commune !\nRetrouvez les informations ci-dessous \nTous les dons seront intégralement reversés au Téléthon !\nUne cagnotte en ligne est aussi disponible via le QR code ou sur le lien suivant : https://mapage.telethon.fr/anima…/telethon-mairie-algrange\n\nOn compte sur vous !
URL:https://ville-algrange.fr/event/telethon-2025
LOCATION:Super U
ATTACH;FMTTYPE=image/png:https://ville-algrange.fr/wp-content/uploads/2025/11/Affiche-telethon-scaled.png
END:VEVENT
BEGIN:VEVENT
DTSTART;TZID=UTC:20251115T100000
DTEND;TZID=UTC:20251116T193000
DTSTAMP:20260424T141222
CREATED:20250724T074440Z
LAST-MODIFIED:20251112T110937Z
UID:3803-1763200800-1763321400@ville-algrange.fr
SUMMARY:Marché de noël 2025
DESCRIPTION:MARCHÉ DE NOËL D’ALGRANGE – 15 et 16 NOVEMBRE 2025
URL:https://ville-algrange.fr/event/inscription-marche-de-noel-2025
LOCATION:Etincelle\, rue jean burger\, Algrange\, 57440\, France
END:VEVENT
BEGIN:VEVENT
DTSTART;TZID=UTC:20250927T200000
DTEND;TZID=UTC:20250927T233000
DTSTAMP:20260424T141222
CREATED:20220823T091351Z
LAST-MODIFIED:20250821T091457Z
UID:3206-1759003200-1759015800@ville-algrange.fr
SUMMARY:9ème édition Nocturne Algrangeoise
DESCRIPTION:La nocturne Algrangeoise\, organisée par l’ACAS et la ville d’Algrange\, est de retour pour sa 9ème édition le dimanche 27 septembre au départ de la salle Mandela à 20h !\nTarif unique de 5€ par personne (gratuit pour les – 10 ans).\nInscriptions possible sur place de 17h à 19h45 ou en mairie à partir du 1er septembre !\nFormulaire d’inscription : cliquez ici\n 
URL:https://ville-algrange.fr/event/6eme-edition-nocturne-algrangeoise
LOCATION:Salle Mandela\, place François Mitterrand\, ALGRANGE\, France
ATTACH;FMTTYPE=image/png:https://ville-algrange.fr/wp-content/uploads/2022/08/Capture-decran-2025-08-21-105801.png
END:VEVENT
BEGIN:VEVENT
DTSTART;TZID=UTC:20250601T080000
DTEND;TZID=UTC:20250601T180000
DTSTAMP:20260424T141222
CREATED:20240514T080943Z
LAST-MODIFIED:20250331T092833Z
UID:3672-1748764800-1748800800@ville-algrange.fr
SUMMARY:Braderie et vide-greniers
DESCRIPTION:La Municipalité\, en partenariat avec le syndicat des marchés de France\, vous invite à une grande braderie et un vide-greniers le dimanche 01 juin 2025 de 8h à 18h !\n\nVous souhaitez être exposant ?\n\nBulletin d’inscription  : cliquez-ici\nDate limite :  20 mai 2025
URL:https://ville-algrange.fr/event/braderie-et-vide-greniers-2
LOCATION:rue Clémenceau
ATTACH;FMTTYPE=image/jpeg:https://ville-algrange.fr/wp-content/uploads/2024/05/affiche-braderie-01.06.25.jpg
END:VEVENT
BEGIN:VEVENT
DTSTART;TZID=UTC:20241022T080000
DTEND;TZID=UTC:20250131T170000
DTSTAMP:20260424T141222
CREATED:20241022T084409Z
LAST-MODIFIED:20241022T084417Z
UID:3736-1729584000-1738342800@ville-algrange.fr
SUMMARY:Séjour à Vaison-La-Romaine
DESCRIPTION:Le CCAS d’Algrange organise un voyage à Vaison-La-Romaine du 12 au 19 avril 2025 !\n\nTarif : 490€/personne\nInscription et règlement en mairie les 04 et 12 novembre 2024 de 14h à 17h.\n\nPlus d’informations au 03 82 86 44 25
URL:https://ville-algrange.fr/event/sejour-a-vaison-la-romaine
ATTACH;FMTTYPE=image/png:https://ville-algrange.fr/wp-content/uploads/2024/10/CCAS-voyage-Vaison.png
END:VEVENT
BEGIN:VEVENT
DTSTART;TZID=UTC:20240721T080000
DTEND;TZID=UTC:20240831T233000
DTSTAMP:20260424T141222
CREATED:20240704T130353Z
LAST-MODIFIED:20240704T130513Z
UID:3708-1721548800-1725147000@ville-algrange.fr
SUMMARY:Les estiv' Algrange
DESCRIPTION:Les Estiv’ Algrange sont de retour !\n\nPremière animation le 21 juillet prochain ! Découvrez sans plus attendre le programme de cette nouvelle édition \nOn vous attend nombreux et nombreuses \n\nANIMATIONS GRATUITESEstivs dépliant 2024
URL:https://ville-algrange.fr/event/les-estiv-algrange
LOCATION:Place François Mitterrand
ATTACH;FMTTYPE=image/png:https://ville-algrange.fr/wp-content/uploads/2024/07/Estivs-depliant-2024_1.png
END:VEVENT
BEGIN:VEVENT
DTSTART;TZID=UTC:20240614T180000
DTEND;TZID=UTC:20240615T233000
DTSTAMP:20260424T141222
CREATED:20230607T122413Z
LAST-MODIFIED:20240612T102743Z
UID:3490-1718388000-1718494200@ville-algrange.fr
SUMMARY:Algrange Mu'zic Live
DESCRIPTION:Rendez-vous les 14 et 15 juin 2024 place François Mitterrand à Algrange pour l’édition 2024 du Algrange Mu’Zic live avec Jean-Baptiste Guegan\, Laura Cox\, Dagoba et de nombreux autres artistes.\nConcerts totalement gratuit
URL:https://ville-algrange.fr/event/algrange-muzic-live-2
LOCATION:Place François Mitterrand
ATTACH;FMTTYPE=image/png:https://ville-algrange.fr/wp-content/uploads/2023/06/Affiche-AML-2024.png
END:VEVENT
BEGIN:VEVENT
DTSTART;TZID=UTC:20240410T190000
DTEND;TZID=UTC:20240410T210000
DTSTAMP:20260424T141222
CREATED:20240328T085700Z
LAST-MODIFIED:20240328T085700Z
UID:3665-1712775600-1712782800@ville-algrange.fr
SUMMARY:OGBL
DESCRIPTION:Une conférence concernant la déclaration d’impôts au Luxembourg pour les non-résidents est organisée par l’OGBL le mercredi 10 avril à 19h au socioculturel place François Mitterrand.
URL:https://ville-algrange.fr/event/ogbl
LOCATION:Socioculturel\, Algrange\, France
ATTACH;FMTTYPE=image/png:https://ville-algrange.fr/wp-content/uploads/2024/03/OGBL.png
END:VEVENT
BEGIN:VEVENT
DTSTART;TZID=UTC:20240323T190000
DTEND;TZID=UTC:20240323T233000
DTSTAMP:20260424T141222
CREATED:20230228T083620Z
LAST-MODIFIED:20240207T092858Z
UID:3423-1711220400-1711236600@ville-algrange.fr
SUMMARY:Fête de la St Patrick
DESCRIPTION:La Municipalité organise une soirée pour fêter la St Patrick ! Rendez-vous le 23 mars à partir de 19h salle Mandela !\nAu menu\, assiette de charcuterie et crudités\, suivi d’un dessert  au tarif de 10€\nRéservation en mairie au 03 82 86 44 24
URL:https://ville-algrange.fr/event/fete-de-la-st-patrick
LOCATION:Salle Mandela\, place François Mitterrand\, ALGRANGE\, France
ATTACH;FMTTYPE=image/png:https://ville-algrange.fr/wp-content/uploads/2023/02/Journee-de-la-St-Patrick-1.png
END:VEVENT
BEGIN:VEVENT
DTSTART;TZID=UTC:20240316T140000
DTEND;TZID=UTC:20240316T180000
DTSTAMP:20260424T141222
CREATED:20230718T122715Z
LAST-MODIFIED:20240206T094657Z
UID:3528-1710597600-1710612000@ville-algrange.fr
SUMMARY:Carnaval 2024
DESCRIPTION:La Municipalité vous invite au défilé de carnaval organisé le samedi 16 mars à partir de 14h au départ du stade de la ville\n\nMettez votre plus beau déguisement et venez déambuler dans nos rues !\n\nDistribution de beignets\, vin chaud et sangria à l’arrivée salle Mandela
URL:https://ville-algrange.fr/event/marche-gourmand-artisanal-et-plantes
LOCATION:Stade municipal\, France
ATTACH;FMTTYPE=image/png:https://ville-algrange.fr/wp-content/uploads/2023/07/CARNAVAL.png
END:VEVENT
BEGIN:VEVENT
DTSTART;TZID=UTC:20240312T090000
DTEND;TZID=UTC:20240328T170000
DTSTAMP:20260424T141222
CREATED:20230906T130321Z
LAST-MODIFIED:20240229T135605Z
UID:3550-1710234000-1711645200@ville-algrange.fr
SUMMARY:Exposition "Algrange vue du ciel"
DESCRIPTION:EXPOSITION  » ALGRANGE VUE DU CIEL »\nVenez découvrir l’exposition « Algrange vue du ciel » proposée par Bastien Mercier du 12 au 28 mars\, tous les mardis\, mercredis et jeudis à la médiathèque d’Algrange.\nHoraires : de 9h à 12h et de 14h à 17h\nL’entrée est libre et ouverte à tous\, alors n’hésitez pas à venir découvrir cette jolie exposition.
URL:https://ville-algrange.fr/event/marche-de-noel-3
LOCATION:Médiathèque\, France
ATTACH;FMTTYPE=image/png:https://ville-algrange.fr/wp-content/uploads/2023/09/EXPOSITION.png
END:VEVENT
BEGIN:VEVENT
DTSTART;TZID=UTC:20240208T150000
DTEND;TZID=UTC:20240208T190000
DTSTAMP:20260424T141222
CREATED:20220728T101511Z
LAST-MODIFIED:20240202T081906Z
UID:3134-1707404400-1707418800@ville-algrange.fr
SUMMARY:Don du sang
DESCRIPTION:Venez donner votre sang lors de la prochaine collecte organisée par l’Amicale du Don du Sang Algrange le jeudi 8 février 2024 de 15h à 19h\, à la salle Mandela\, place François Mitterrand.\n\nPour plus de confort et de simplicité\, vous pouvez prendre rendez-vous directement en ligne via le lien suivant : https://efs.link/3CrhV\nVenez nombreux\, les besoins en sang sont importants !
URL:https://ville-algrange.fr/event/don-du-sang-4
LOCATION:Salle Mandela\, place François Mitterrand\, ALGRANGE\, France
ATTACH;FMTTYPE=image/jpeg:https://ville-algrange.fr/wp-content/uploads/2022/07/420088571_676902037978393_1077443330870633863_n.jpg
END:VEVENT
BEGIN:VEVENT
DTSTART;TZID=UTC:20240130T180000
DTEND;TZID=UTC:20240130T200000
DTSTAMP:20260424T141222
CREATED:20240122T102112Z
LAST-MODIFIED:20240122T102144Z
UID:3624-1706637600-1706644800@ville-algrange.fr
SUMMARY:Concertation publique SMITU
DESCRIPTION:CONCERTATION PUBLIQUE\n\nLe Syndicat Mixte des Transports Urbains (SMITU) organise une concertation publique le mardi 30 janvier 2024 à partir de 18h au foyer socioculturel\, place François Mitterrand.\n\nCette réunion permettra à la nouvelle équipe des élus du SMITU de dialoguer avec la population tout en faisant un état des lieux de la situation du réseau de transport. L’objectif est d’écouter les attentes des usagers\, de recueillir les avis et suggestions de la population pour aplanir les difficultés et repartir sur une base de travail pérenne.
URL:https://ville-algrange.fr/event/concertation-publique-smitu
LOCATION:Socioculturel\, Algrange\, France
END:VEVENT
BEGIN:VEVENT
DTSTART;TZID=UTC:20240123T180000
DTEND;TZID=UTC:20240123T220000
DTSTAMP:20260424T141222
CREATED:20240123T102732Z
LAST-MODIFIED:20240123T102732Z
UID:3627-1706032800-1706047200@ville-algrange.fr
SUMMARY:Cérémonie des vœux du maire 2024
DESCRIPTION: 
URL:https://ville-algrange.fr/event/ceremonie-des-voeux-du-maire-2024
LOCATION:Etincelle\, rue jean burger\, Algrange\, 57440\, France
END:VEVENT
BEGIN:VEVENT
DTSTART;TZID=UTC:20230709T120000
DTEND;TZID=UTC:20230827T230000
DTSTAMP:20260424T141222
CREATED:20210705T122507Z
LAST-MODIFIED:20230720T125054Z
UID:2423-1688904000-1693177200@ville-algrange.fr
SUMMARY:Estiv'Algrange 2023 : programme de l'été
DESCRIPTION:Les estiv’Algrange sont de retour !\nA partir du dimanche 9 juillet et jusqu’au dimanche 27 août\, venez participer à nos animations gratuites durant tout l’été !\n\n\nDécouvrez le programme 2023 en cliquant ici : programme
URL:https://ville-algrange.fr/event/les-estivalgrange-2023
LOCATION:Place François Mitterrand
ATTACH;FMTTYPE=image/jpeg:https://ville-algrange.fr/wp-content/uploads/2021/07/capture-2.jpg
END:VEVENT
BEGIN:VEVENT
DTSTART;TZID=UTC:20230624T160000
DTEND;TZID=UTC:20230624T233000
DTSTAMP:20260424T141222
CREATED:20230607T122805Z
LAST-MODIFIED:20230607T122822Z
UID:3496-1687622400-1687649400@ville-algrange.fr
SUMMARY:Fête de la St Jean
DESCRIPTION:La Municipalité vous donne rendez-vous le samedi 24 juin place François Mitterrand pour la fête de la Saint-Jean !\n\nAnimation et restauration sur place à partir de 16h\, en attendant le feu de bûcher à 23h.\n\nVenez nombreux !
URL:https://ville-algrange.fr/event/fete-de-la-st-jean-2
LOCATION:Place François Mitterrand
ATTACH;FMTTYPE=image/png:https://ville-algrange.fr/wp-content/uploads/2023/06/Affiche-St-Jean.png
END:VEVENT
BEGIN:VEVENT
DTSTART;TZID=UTC:20230507T110000
DTEND;TZID=UTC:20230507T150000
DTSTAMP:20260424T141222
CREATED:20230417T084944Z
LAST-MODIFIED:20230419T070806Z
UID:3467-1683457200-1683471600@ville-algrange.fr
SUMMARY:Marche gourmande
DESCRIPTION:La ville d’Algrange organise une marche gourmande le 7 mai prochain à partir de 11h au départ de la salle Mandela !\n\n \nTarifs : 25€ par personne\, 15€ pour les enfants de moins de 12 ans et gratuit pour les moins de 5 ans.\nLes inscriptions se font via la fiche d’inscription disponible en cliquant ici : fiche d’inscription ou sur place en mairie. Le règlement se fait directement lors de l’inscription.\n \n5 points d’arrêt sont prévus sur le parcours de 7km :\n– Burbach (pétanque) pour l’apéritif\n– Burbach (beach volley) pour l’entrée\n– Grotte pour le plat de résistance\n– Philippsburg pour le fromage\n\n– Salle Mandela pour le dessert
URL:https://ville-algrange.fr/event/marche-gourmande
LOCATION:Salle Mandela\, place François Mitterrand\, ALGRANGE\, France
ATTACH;FMTTYPE=image/png:https://ville-algrange.fr/wp-content/uploads/2023/04/Marche-gourmande.png
END:VEVENT
BEGIN:VEVENT
DTSTART;TZID=UTC:20230416T120000
DTEND;TZID=UTC:20230416T170000
DTSTAMP:20260424T141222
CREATED:20230309T101329Z
LAST-MODIFIED:20230313T144743Z
UID:3433-1681646400-1681664400@ville-algrange.fr
SUMMARY:Repas dansant
DESCRIPTION:Le CCAS organise son repas dansant le dimanche 16 avril prochain à partir de 12h\, au foyer socioculturel.\nAu programme\, repas italien dans une ambiance musicale et conviviale.\nTarif : 20€ par personne\nRéservation possible jusqu’au 7 avril en mairie ou au 03 82 86 44 25.
URL:https://ville-algrange.fr/event/repas-dansant-3
LOCATION:Socioculturel\, Algrange\, France
ATTACH;FMTTYPE=image/jpeg:https://ville-algrange.fr/wp-content/uploads/2023/03/affiche-repas-dansant-2.jpg
END:VEVENT
BEGIN:VEVENT
DTSTART;TZID=UTC:20230402T103000
DTEND;TZID=UTC:20230402T183000
DTSTAMP:20260424T141222
CREATED:20230323T091123Z
LAST-MODIFIED:20230323T104333Z
UID:3443-1680431400-1680460200@ville-algrange.fr
SUMMARY:Chasse aux oeufs
DESCRIPTION:La municipalité d’Algrange vous propose cette année une nouvelle version de la chasse aux œufs le dimanche 2 avril 2023 \n\nExplorez la moindre cachette pour trouver des œufs\, relevez des défis\, faites preuve d’astuce et de logique\, et faites gagner des points à votre équipe ! A la clé\, un joli sachet de gourmandises pour chaque participant.\nEt puisque tout le monde aime le chocolat (oui oui\, tout le monde !)\, le jeu est adapté à chaque tranche d’âge (moins de 3 ans / 3 à 6 ans / 7 à 10 ans / adolescents et pourquoi pas\, adultes).\nLa participation est gratuite\, sans inscription préalable. Choisissez l’horaire qui vous convient le mieux pour commencer la partie\, et en avant pour l’aventure !\n– 1ère session de jeu à 10h30*\n– 2ème session de jeu à 14h*\n– 3ème session de jeu à 17h *\n(*dans la limite de 60 joueurs par session – des équipes de 3 à 6 joueurs seront constituées – comptez 1h à 1h30 par partie)\n\nA vos cloches\, à vos lapins\, cherchez !
URL:https://ville-algrange.fr/event/chasse-aux-oeufs-2
LOCATION:Socioculturel\, Algrange\, France
ATTACH;FMTTYPE=image/jpeg:https://ville-algrange.fr/wp-content/uploads/2023/03/Chasse.jpg
END:VEVENT
BEGIN:VEVENT
DTSTART;TZID=UTC:20230326T160000
DTEND;TZID=UTC:20230326T180000
DTSTAMP:20260424T141222
CREATED:20230303T080921Z
LAST-MODIFIED:20230303T080947Z
UID:3429-1679846400-1679853600@ville-algrange.fr
SUMMARY:Concert Just Brass
DESCRIPTION:La municipalité d’Algrange a le plaisir de vous convier au concert de l’ensemble vocal et instrumental JUST BRASS d’Uckange organisé le 26 mars prochain à 16h\, salle de l’Etincelle.\n\nDirigé par son Président et chef de chœur Gérard Killis\, le groupe composé d’une soixantaine de personnes va assurer pendant près de 2 heures une prestation musicale où se mêleront la variété française avec des reprises d’artistes tels que Calogero\, Francis Cabrel\, Vianney\, des chants originaux comme Kusimama de Jim Papoulis chanté en langue swahilie ou encore le célèbre Alléluia de Léonard Cohen pour plaire au plus grand nombre.\n \n\nUne rencontre musicale à ne pas manquer. Venez nombreux!
URL:https://ville-algrange.fr/event/concert-just-brass
LOCATION:Etincelle\, rue jean burger\, Algrange\, 57440\, France
ATTACH;FMTTYPE=image/png:https://ville-algrange.fr/wp-content/uploads/2023/03/concert-just-brass.png
END:VEVENT
BEGIN:VEVENT
DTSTART;TZID=UTC:20230311T140000
DTEND;TZID=UTC:20230311T170000
DTSTAMP:20260424T141222
CREATED:20230203T080908Z
LAST-MODIFIED:20230207T152225Z
UID:3407-1678543200-1678554000@ville-algrange.fr
SUMMARY:Défilé de Carnaval 2023
DESCRIPTION:La Municipalité vous invite au défilé de carnaval organisé le samedi 11 mars à partir de 14h au départ du stade de la ville !\n\nMettez votre plus beau déguisement et venez déambuler dans nos rues.\n\nAu programme : chars\, mascottes\, majorettes\, fanfare de Nilvange\, associations d’Algrange et distribution de beignets\, vin chaud et sangria à l’arrivée salle de l’ Etincelle.
URL:https://ville-algrange.fr/event/defile-de-carnaval-2023
LOCATION:Etincelle\, rue jean burger\, Algrange\, 57440\, France
ATTACH;FMTTYPE=image/png:https://ville-algrange.fr/wp-content/uploads/2023/02/Carnaval.png
END:VEVENT
BEGIN:VEVENT
DTSTART;TZID=UTC:20230218T193000
DTEND;TZID=UTC:20230218T233000
DTSTAMP:20260424T141222
CREATED:20230124T094406Z
LAST-MODIFIED:20230124T094440Z
UID:3398-1676748600-1676763000@ville-algrange.fr
SUMMARY:Soirée KARAOKE
DESCRIPTION:La Municipalité organise sa soirée KARAOKÉ et blind-test le samedi 18 février de 19h30 à minuit au foyer socioculturel !\n\n\nPour participer\, merci de réserver votre place en Mairie au 03 82 86 44 24.\nBuvette\, sandwichs et crêpes sur place !
URL:https://ville-algrange.fr/event/soiree-karaoke
LOCATION:Socioculturel\, Algrange\, France
ATTACH;FMTTYPE=image/png:https://ville-algrange.fr/wp-content/uploads/2023/01/Soiree-karaoke.png
END:VEVENT
BEGIN:VEVENT
DTSTART;TZID=UTC:20230215T140000
DTEND;TZID=UTC:20230215T180000
DTSTAMP:20260424T141222
CREATED:20230207T085637Z
LAST-MODIFIED:20230207T085637Z
UID:3413-1676469600-1676484000@ville-algrange.fr
SUMMARY:Journée jeux
DESCRIPTION:La commission jeunesse des villes d’Algrange\, Knutange et Nilvange et la commune d’Algrange organisent une journée autour du jeu le mercredi 15 février au foyer socio-culturel Ambroise Croizat.\nVenez nombreux !
URL:https://ville-algrange.fr/event/journee-jeux
LOCATION:Socioculturel\, Algrange\, France
ATTACH;FMTTYPE=image/jpeg:https://ville-algrange.fr/wp-content/uploads/2023/02/Capture-decran-2023-02-03-151823.jpg
END:VEVENT
BEGIN:VEVENT
DTSTART;TZID=UTC:20230117T180000
DTEND;TZID=UTC:20230117T210000
DTSTAMP:20260424T141222
CREATED:20230105T140838Z
LAST-MODIFIED:20230105T140838Z
UID:3390-1673978400-1673989200@ville-algrange.fr
SUMMARY:Vœux du Maire 2023
DESCRIPTION:Monsieur le Maire\, ses adjoints et conseillers présenteront leur vœux à la population le 17 janvier 2023 à 18h\, salle de L’ Etincelle !
URL:https://ville-algrange.fr/event/voeux-du-maire-2023
LOCATION:Etincelle\, rue jean burger\, Algrange\, 57440\, France
ATTACH;FMTTYPE=image/png:https://ville-algrange.fr/wp-content/uploads/2023/01/Publication-Facebook-minimaliste-beaute-ethique-blanc-et-rose-1.png
END:VEVENT
BEGIN:VEVENT
DTSTART;TZID=UTC:20230109T080000
DTEND;TZID=UTC:20230127T170000
DTSTAMP:20260424T141222
CREATED:20221216T091554Z
LAST-MODIFIED:20230105T140914Z
UID:3380-1673251200-1674838800@ville-algrange.fr
SUMMARY:Exposition "les émotions vitales"
DESCRIPTION:Venez découvrir l’exposition « Les émotions vitales » de l’artiste peintre BKenzArt à la médiathèque d’Algrange du 9 au 27 janvier 2023\, tous les mardis et jeudis de 9h à 12h et de 14h à 17h à la médiathèque d’Algrange\n\n« A travers des toiles colorées\, BKenzArt cherche à souligner le fait qu’en tant qu’être humain\, les émotions sont inévitables. Positives ou négatives\, récurrentes ou fluctuantes\, elles s’imposent à chacun d’entre nous. Ces sentiments aussi divers soient-ils\, forment ce qui fait de nous des êtres humains. Alors finalement\, les accepter pour s’aimer\, n’est-il finalement pas le meilleur moyen d’être heureux ? »\n\nRendez-vous à partir du 9 janvier pour découvrir cette jolie exposition !
URL:https://ville-algrange.fr/event/exposition-les-emotions
LOCATION:Médiathèque\, France
ATTACH;FMTTYPE=image/jpeg:https://ville-algrange.fr/wp-content/uploads/2022/12/recto.jpg
END:VEVENT
BEGIN:VEVENT
DTSTART;TZID=UTC:20221217T140000
DTEND;TZID=UTC:20221218T180000
DTSTAMP:20260424T141222
CREATED:20221205T082636Z
LAST-MODIFIED:20221205T082711Z
UID:3370-1671285600-1671386400@ville-algrange.fr
SUMMARY:Marché de Noël
DESCRIPTION:La Municipalité d’Algrange vous propose son marché de Noël les 17 et 18 décembre prochain à la salle Mandela !\n\nHoraires des festivités :\n– Samedi de 14h à 22h\n– Dimanche de 11h à 18h\nProgramme sur les 2 jours : présence du père noël sur le marché\, parade de Noël le samedi à 18h\, photobooth\, nombreux exposants ( biscuits\, bijoux\, bières artisanales\, objets décoratifs…) et restauration sur place !\n\nOn vous attend nombreux !
URL:https://ville-algrange.fr/event/marche-de-noel-2
LOCATION:Salle Mandela\, place François Mitterrand\, ALGRANGE\, France
ATTACH;FMTTYPE=image/jpeg:https://ville-algrange.fr/wp-content/uploads/2022/12/Affiche-marche-de-noel_2-scaled.jpg
END:VEVENT
BEGIN:VEVENT
DTSTART;TZID=UTC:20221203T100000
DTEND;TZID=UTC:20221203T170000
DTSTAMP:20260424T141222
CREATED:20221122T110059Z
LAST-MODIFIED:20221122T152617Z
UID:3355-1670061600-1670086800@ville-algrange.fr
SUMMARY:Téléthon
DESCRIPTION:La ville d’Algrange se mobilise pour le Téléthon !\nCollecte de dons au profit de la recherche le samedi 3 décembre de 10h à 17h au Super U !\nD’avance\, merci pour votre aide et soutien !
URL:https://ville-algrange.fr/event/telethon
LOCATION:Super U
ATTACH;FMTTYPE=image/png:https://ville-algrange.fr/wp-content/uploads/2022/11/Telethon-2022.png
END:VEVENT
BEGIN:VEVENT
DTSTART;TZID=UTC:20221122T190000
DTEND;TZID=UTC:20221122T190000
DTSTAMP:20260424T141222
CREATED:20220905T065509Z
LAST-MODIFIED:20221110T151358Z
UID:3232-1669143600-1669143600@ville-algrange.fr
SUMMARY:Réunion d'accueil des nouveaux arrivants
DESCRIPTION:Nous invitons toutes les personnes arrivées depuis mars 2020 à Algrange à s’inscrire au secrétariat de la mairie pour participer au vin d’honneur prévu le 22 novembre 2022 à 19h au foyer socioculturel.\nDate limite d’inscription : 15 novembre 2022\nContact : 03 82 86 44 26 ou secretariat@ville-algrange.fr
URL:https://ville-algrange.fr/event/reunion-daccueil-des-nouveaux-arrivants
LOCATION:Socioculturel\, Algrange\, France
ATTACH;FMTTYPE=image/png:https://ville-algrange.fr/wp-content/uploads/2022/09/bandeau_1.png
END:VEVENT
BEGIN:VEVENT
DTSTART;TZID=UTC:20221122T090000
DTEND;TZID=UTC:20221122T130000
DTSTAMP:20260424T141222
CREATED:20221109T092826Z
LAST-MODIFIED:20221109T092826Z
UID:3347-1669107600-1669122000@ville-algrange.fr
SUMMARY:Forum pôle emploi
DESCRIPTION:Vous recherchez un emploi dans la grande distribution\, le commerce ou encore l’hôtellerie-restauration ?\nPôle emploi organise un forum transfrontalier le mardi 22 novembre de 9h à 13h\, salle de l’Etincelle.\n\n\nÀ vos CV !
URL:https://ville-algrange.fr/event/forum-pole-emploi
LOCATION:Etincelle\, rue jean burger\, Algrange\, 57440\, France
END:VEVENT
BEGIN:VEVENT
DTSTART;TZID=UTC:20221119T190000
DTEND;TZID=UTC:20221119T230000
DTSTAMP:20260424T141222
CREATED:20210917T122628Z
LAST-MODIFIED:20221006T075049Z
UID:2537-1668884400-1668898800@ville-algrange.fr
SUMMARY:Soirée beaujolais nouveau
DESCRIPTION:La Municipalité organise une soirée beaujolais nouveau le samedi 19 novembre à 19h salle Mandela !\nInscrivez-vous au 03 82 86 44 24\, pour 8€ par personne.\n\n\n 
URL:https://ville-algrange.fr/event/soiree-dansante
LOCATION:Salle Mandela\, place François Mitterrand\, ALGRANGE\, France
ATTACH;FMTTYPE=image/png:https://ville-algrange.fr/wp-content/uploads/2021/09/Soiree-beaujolais-1.png
END:VEVENT
END:VCALENDAR