BEGIN:VCALENDAR
VERSION:2.0
PRODID:-//ville Algrange - ECPv6.15.20//NONSGML v1.0//EN
CALSCALE:GREGORIAN
METHOD:PUBLISH
X-WR-CALNAME:ville Algrange
X-ORIGINAL-URL:https://ville-algrange.fr
X-WR-CALDESC:Évènements pour ville Algrange
REFRESH-INTERVAL;VALUE=DURATION:PT1H
X-Robots-Tag:noindex
X-PUBLISHED-TTL:PT1H
BEGIN:VTIMEZONE
TZID:UTC
BEGIN:STANDARD
TZOFFSETFROM:+0000
TZOFFSETTO:+0000
TZNAME:UTC
DTSTART:20230101T000000
END:STANDARD
END:VTIMEZONE
BEGIN:VEVENT
DTSTART;TZID=UTC:20240123T180000
DTEND;TZID=UTC:20240123T220000
DTSTAMP:20260422T105254
CREATED:20240123T102732Z
LAST-MODIFIED:20240123T102732Z
UID:3627-1706032800-1706047200@ville-algrange.fr
SUMMARY:Cérémonie des vœux du maire 2024
DESCRIPTION: 
URL:https://ville-algrange.fr/event/ceremonie-des-voeux-du-maire-2024
LOCATION:Etincelle\, rue jean burger\, Algrange\, 57440\, France
END:VEVENT
END:VCALENDAR