BEGIN:VCALENDAR
VERSION:2.0
PRODID:-//ville Algrange - ECPv6.15.20//NONSGML v1.0//EN
CALSCALE:GREGORIAN
METHOD:PUBLISH
X-ORIGINAL-URL:https://ville-algrange.fr
X-WR-CALDESC:Évènements pour ville Algrange
REFRESH-INTERVAL;VALUE=DURATION:PT1H
X-Robots-Tag:noindex
X-PUBLISHED-TTL:PT1H
BEGIN:VTIMEZONE
TZID:UTC
BEGIN:STANDARD
TZOFFSETFROM:+0000
TZOFFSETTO:+0000
TZNAME:UTC
DTSTART:20220101T000000
END:STANDARD
END:VTIMEZONE
BEGIN:VEVENT
DTSTART;TZID=UTC:20230109T080000
DTEND;TZID=UTC:20230127T170000
DTSTAMP:20260421T083149
CREATED:20221216T091554Z
LAST-MODIFIED:20230105T140914Z
UID:3380-1673251200-1674838800@ville-algrange.fr
SUMMARY:Exposition "les émotions vitales"
DESCRIPTION:Venez découvrir l’exposition « Les émotions vitales » de l’artiste peintre BKenzArt à la médiathèque d’Algrange du 9 au 27 janvier 2023\, tous les mardis et jeudis de 9h à 12h et de 14h à 17h à la médiathèque d’Algrange\n\n« A travers des toiles colorées\, BKenzArt cherche à souligner le fait qu’en tant qu’être humain\, les émotions sont inévitables. Positives ou négatives\, récurrentes ou fluctuantes\, elles s’imposent à chacun d’entre nous. Ces sentiments aussi divers soient-ils\, forment ce qui fait de nous des êtres humains. Alors finalement\, les accepter pour s’aimer\, n’est-il finalement pas le meilleur moyen d’être heureux ? »\n\nRendez-vous à partir du 9 janvier pour découvrir cette jolie exposition !
URL:https://ville-algrange.fr/event/exposition-les-emotions
LOCATION:Médiathèque\, France
ATTACH;FMTTYPE=image/jpeg:https://ville-algrange.fr/wp-content/uploads/2022/12/recto.jpg
END:VEVENT
END:VCALENDAR